BEGIN:VCALENDAR
VERSION:2.0
PRODID:-//MyFedTrainer.com Blog - ECPv6.15.17.1//NONSGML v1.0//EN
CALSCALE:GREGORIAN
METHOD:PUBLISH
X-ORIGINAL-URL:https://blog.myfedtrainer.com
X-WR-CALDESC:Events for MyFedTrainer.com Blog
REFRESH-INTERVAL;VALUE=DURATION:PT1H
X-Robots-Tag:noindex
X-PUBLISHED-TTL:PT1H
BEGIN:VTIMEZONE
TZID:America/New_York
BEGIN:DAYLIGHT
TZOFFSETFROM:-0500
TZOFFSETTO:-0400
TZNAME:EDT
DTSTART:20250309T070000
END:DAYLIGHT
BEGIN:STANDARD
TZOFFSETFROM:-0400
TZOFFSETTO:-0500
TZNAME:EST
DTSTART:20251102T060000
END:STANDARD
BEGIN:DAYLIGHT
TZOFFSETFROM:-0500
TZOFFSETTO:-0400
TZNAME:EDT
DTSTART:20260308T070000
END:DAYLIGHT
BEGIN:STANDARD
TZOFFSETFROM:-0400
TZOFFSETTO:-0500
TZNAME:EST
DTSTART:20261101T060000
END:STANDARD
BEGIN:DAYLIGHT
TZOFFSETFROM:-0500
TZOFFSETTO:-0400
TZNAME:EDT
DTSTART:20270314T070000
END:DAYLIGHT
BEGIN:STANDARD
TZOFFSETFROM:-0400
TZOFFSETTO:-0500
TZNAME:EST
DTSTART:20271107T060000
END:STANDARD
END:VTIMEZONE
BEGIN:VEVENT
DTSTART;VALUE=DATE:20260422
DTEND;VALUE=DATE:20260424
DTSTAMP:20260423T183512
CREATED:20260407T103202Z
LAST-MODIFIED:20260407T153540Z
UID:10000021-1776816000-1776988799@blog.myfedtrainer.com
SUMMARY:State Agency (Custom Training w/Rachel)
DESCRIPTION:
URL:https://blog.myfedtrainer.com/event/texas-hhsc-training-external-event-w-rachel/
END:VEVENT
BEGIN:VEVENT
DTSTART;VALUE=DATE:20260427
DTEND;VALUE=DATE:20260429
DTSTAMP:20260423T183512
CREATED:20260407T103454Z
LAST-MODIFIED:20260407T103454Z
UID:10000022-1777248000-1777420799@blog.myfedtrainer.com
SUMMARY:NAFOA Conference (MyFedTraining is Exhibiting)
DESCRIPTION:
URL:https://blog.myfedtrainer.com/event/nafoa-conference-myfedtraining-is-exhibiting/
ATTACH;FMTTYPE=image/png:https://blog.myfedtrainer.com/wp-content/uploads/2026/04/NAFO.png
END:VEVENT
BEGIN:VEVENT
DTSTART;TZID=America/New_York:20260507T130000
DTEND;TZID=America/New_York:20260507T160000
DTSTAMP:20260423T183512
CREATED:20260325T104450Z
LAST-MODIFIED:20260407T091359Z
UID:10000006-1778158800-1778169600@blog.myfedtrainer.com
SUMMARY:Uniform Guidance Deep Dive
DESCRIPTION:Half-Day Course: Uniform Guidance (2 CFR 200) Deep Dive \nCourse overview\nStrengthen your grants management skills with MyFedTrainer.com’s Uniform Guidance (2 CFR 200) Deep Dive — a live\, virtual half-day course for professionals seeking to master federal grant compliance. Gain practical tools\, real-world examples\, and expert insights to confidently understand and apply the Uniform Guidance requirements. \nHalf Day Live Virtual\nMay 7\, 2026 | 1 – 4 pm Eastern \nInstructor\nColleen Chiochetti \nCPE Credits 3
URL:https://blog.myfedtrainer.com/event/uniform-guidance-deep-dive/
CATEGORIES:Training
ATTACH;FMTTYPE=image/png:https://blog.myfedtrainer.com/wp-content/uploads/2026/03/Uniform-Guidance.png
END:VEVENT
BEGIN:VEVENT
DTSTART;TZID=America/New_York:20260512T130000
DTEND;TZID=America/New_York:20260512T140000
DTSTAMP:20260423T183512
CREATED:20260325T104457Z
LAST-MODIFIED:20260407T091923Z
UID:10000011-1778590800-1778594400@blog.myfedtrainer.com
SUMMARY:Webinar: Subrecipient Monitoring Rules
DESCRIPTION:Webinar: Subrecipient Monitoring Rules \nCourse overview\nExplore the latest requirements for subrecipient oversight under the Uniform Guidance. \nObjective\nUnderstand how to assess risk\, monitor subrecipient performance\, and document compliance. \nWebinar Series- Live Virtual\nMay 12\, 2026 | 1-2pm Eastern \nWhy Attend\nStrengthen accountability and safeguard your organization from audit findings related to subawards. \nInstructor\nJenni Moreno \nCertificate included: CPE Credits 1
URL:https://blog.myfedtrainer.com/event/webinar-subrecipient-monitoring-rules/
CATEGORIES:Webinar
ATTACH;FMTTYPE=image/png:https://blog.myfedtrainer.com/wp-content/uploads/2026/03/Subrecipient-Monitoring-Rules.png
END:VEVENT
BEGIN:VEVENT
DTSTART;VALUE=DATE:20260513
DTEND;VALUE=DATE:20260514
DTSTAMP:20260423T183512
CREATED:20260418T170635Z
LAST-MODIFIED:20260418T170635Z
UID:10000024-1778630400-1778716799@blog.myfedtrainer.com
SUMMARY:Blackbaud Webinar (w/Rachel)
DESCRIPTION:
URL:https://blog.myfedtrainer.com/event/blackbaud-webinar-w-rachel/
END:VEVENT
BEGIN:VEVENT
DTSTART;VALUE=DATE:20260519
DTEND;VALUE=DATE:20260521
DTSTAMP:20260423T183512
CREATED:20260418T170434Z
LAST-MODIFIED:20260418T170434Z
UID:10000023-1779148800-1779321599@blog.myfedtrainer.com
SUMMARY:Tribal nation (Custom Training w/Rachel)
DESCRIPTION:
URL:https://blog.myfedtrainer.com/event/tribal-nation-may/
END:VEVENT
BEGIN:VEVENT
DTSTART;TZID=America/New_York:20260520T130000
DTEND;TZID=America/New_York:20260520T160000
DTSTAMP:20260423T183512
CREATED:20260325T104527Z
LAST-MODIFIED:20260407T093840Z
UID:10000019-1779282000-1779292800@blog.myfedtrainer.com
SUMMARY:TA Workshop: Subrecipient Monitoring Plan
DESCRIPTION:Technical Assistance Workshop: Creating a Subrecipient Monitoring Plan \nCourse overview\nDevelop a tailored subrecipient monitoring plan that meets Uniform Guidance requirements and promotes effective oversight. \nObjective\nLearn to assess risk\, design monitoring tools\, and document results for ongoing compliance and accountability. \nTechnical Assistance Session – Live Virtual\nMay 20\, 2026 | 1-2:30pm Eastern \nWhy Attend\nLeave with a clear framework and practical templates to implement a strong monitoring program that protects your federal awards. \nInstructor\nFabrice Blackson \nCertificate included: CPE Credits 1.5
URL:https://blog.myfedtrainer.com/event/ta-workshop-subrecipient-monitoring-plan/
CATEGORIES:Workshop
ATTACH;FMTTYPE=image/png:https://blog.myfedtrainer.com/wp-content/uploads/2026/03/Creating-a-Subrecipient-Monitoring-Plan.png
END:VEVENT
BEGIN:VEVENT
DTSTART;TZID=America/New_York:20260603T130000
DTEND;TZID=America/New_York:20260604T163000
DTSTAMP:20260423T183512
CREATED:20260325T104450Z
LAST-MODIFIED:20260407T093704Z
UID:10000002-1780491600-1780590600@blog.myfedtrainer.com
SUMMARY:Grant Management Boot Camp
DESCRIPTION:Grant Management BootCamp \nCourse Overview\nThe Grant Management BootCamp is a practical\, step-by-step course designed to help you understand the administrative rules\, cost principles\, compliance requirements\, and best practices for managing federal awards. Whether you’re new to grants or need a refresher\, this training gives you the foundation to stay compliant and successful in every stage of the grant lifecycle. \nWho It’s For\nPerfect for Grant managers\, administrators\, and accountants\nProgram directors and project staff handling federal funding \n2-Day Course\nJune 3 & 4\, 2026 | 1-4:00pm Eastern (each day) \nAccess\nLive interaction during the scheduled sessions and then 24/7 on-demand with lifetime access \nInstructors\nRachel Werner and Jenni Moreno \nCertificate of Completion provided
URL:https://blog.myfedtrainer.com/event/grant-management-boot-camp/
CATEGORIES:Training
ATTACH;FMTTYPE=image/png:https://blog.myfedtrainer.com/wp-content/uploads/2026/03/Grant-Management-BootCamp.png
END:VEVENT
BEGIN:VEVENT
DTSTART;TZID=America/New_York:20260609T130000
DTEND;TZID=America/New_York:20260609T140000
DTSTAMP:20260423T183512
CREATED:20260325T104512Z
LAST-MODIFIED:20260407T094424Z
UID:10000012-1781010000-1781013600@blog.myfedtrainer.com
SUMMARY:Webinar: The Nuances of Costs
DESCRIPTION:Webinar: The Nuances of Costs \nCourse overview\nNot all costs are created equal. This session examines the fine line between allowable\, allocable\, and reasonable costs. \nObjective\nMaster cost principles and avoid common pitfalls in expense categorization and documentation. \nWebinar Series- Live Virtual\nJune 9\, 2026 | 1-2pm Eastern \nWhy Attend\nProtect your funding by ensuring every dollar charged to your grant meets federal requirements. \nCertificate included
URL:https://blog.myfedtrainer.com/event/webinar-the-nuances-of-costs/
CATEGORIES:Webinar
ATTACH;FMTTYPE=image/png:https://blog.myfedtrainer.com/wp-content/uploads/2026/03/Nuances-of-Costs.png
END:VEVENT
BEGIN:VEVENT
DTSTART;TZID=America/New_York:20260717T130000
DTEND;TZID=America/New_York:20260717T140000
DTSTAMP:20260423T183512
CREATED:20260325T104512Z
LAST-MODIFIED:20260325T104512Z
UID:10000013-1784293200-1784296800@blog.myfedtrainer.com
SUMMARY:Webinar: Understanding the Compliance Supplement
DESCRIPTION:OMB Compliance Supplement overview
URL:https://blog.myfedtrainer.com/event/webinar-understanding-the-compliance-supplement/
CATEGORIES:Webinar
END:VEVENT
BEGIN:VEVENT
DTSTART;TZID=America/New_York:20260723T130000
DTEND;TZID=America/New_York:20260723T160000
DTSTAMP:20260423T183512
CREATED:20260325T104456Z
LAST-MODIFIED:20260325T104457Z
UID:10000007-1784811600-1784822400@blog.myfedtrainer.com
SUMMARY:Uniform Guidance Deep Dive
DESCRIPTION:In-depth Uniform Guidance training with practical application
URL:https://blog.myfedtrainer.com/event/uniform-guidance-deep-dive-2/
CATEGORIES:Training
END:VEVENT
BEGIN:VEVENT
DTSTART;TZID=America/New_York:20260805T130000
DTEND;TZID=America/New_York:20260806T163000
DTSTAMP:20260423T183512
CREATED:20260325T104450Z
LAST-MODIFIED:20260325T104450Z
UID:10000003-1785934800-1786033800@blog.myfedtrainer.com
SUMMARY:Grant Management Boot Camp
DESCRIPTION:Comprehensive training covering federal grant management lifecycle
URL:https://blog.myfedtrainer.com/event/grant-management-boot-camp-2/
CATEGORIES:Training
END:VEVENT
BEGIN:VEVENT
DTSTART;TZID=America/New_York:20260811T130000
DTEND;TZID=America/New_York:20260811T140000
DTSTAMP:20260423T183512
CREATED:20260325T104512Z
LAST-MODIFIED:20260325T104512Z
UID:10000014-1786453200-1786456800@blog.myfedtrainer.com
SUMMARY:Webinar: Fiscal Year End Planning
DESCRIPTION:Fiscal year-end grant planning strategies
URL:https://blog.myfedtrainer.com/event/webinar-fiscal-year-end-planning/
CATEGORIES:Webinar
END:VEVENT
BEGIN:VEVENT
DTSTART;TZID=America/New_York:20260910T130000
DTEND;TZID=America/New_York:20260910T160000
DTSTAMP:20260423T183512
CREATED:20260325T104456Z
LAST-MODIFIED:20260325T104457Z
UID:10000008-1789045200-1789056000@blog.myfedtrainer.com
SUMMARY:Uniform Guidance Deep Dive
DESCRIPTION:In-depth Uniform Guidance training with practical application
URL:https://blog.myfedtrainer.com/event/uniform-guidance-deep-dive-3/
CATEGORIES:Training
END:VEVENT
BEGIN:VEVENT
DTSTART;TZID=America/New_York:20260915T130000
DTEND;TZID=America/New_York:20260915T140000
DTSTAMP:20260423T183512
CREATED:20260325T104512Z
LAST-MODIFIED:20260325T104512Z
UID:10000015-1789477200-1789480800@blog.myfedtrainer.com
SUMMARY:Webinar: Property Management
DESCRIPTION:Managing grant-funded property compliance
URL:https://blog.myfedtrainer.com/event/webinar-property-management/
CATEGORIES:Webinar
END:VEVENT
BEGIN:VEVENT
DTSTART;TZID=America/New_York:20261007T130000
DTEND;TZID=America/New_York:20261008T163000
DTSTAMP:20260423T183512
CREATED:20260325T104450Z
LAST-MODIFIED:20260325T104450Z
UID:10000004-1791378000-1791477000@blog.myfedtrainer.com
SUMMARY:Grant Management Boot Camp
DESCRIPTION:Comprehensive training covering federal grant management lifecycle
URL:https://blog.myfedtrainer.com/event/grant-management-boot-camp-3/
CATEGORIES:Training
END:VEVENT
BEGIN:VEVENT
DTSTART;TZID=America/New_York:20261020T130000
DTEND;TZID=America/New_York:20261020T140000
DTSTAMP:20260423T183512
CREATED:20260325T104512Z
LAST-MODIFIED:20260325T104512Z
UID:10000016-1792501200-1792504800@blog.myfedtrainer.com
SUMMARY:Webinar: Risk Assessment and Reviews
DESCRIPTION:Risk assessment and oversight strategies
URL:https://blog.myfedtrainer.com/event/webinar-risk-assessment-and-reviews/
CATEGORIES:Webinar
END:VEVENT
BEGIN:VEVENT
DTSTART;TZID=America/New_York:20261105T130000
DTEND;TZID=America/New_York:20261105T160000
DTSTAMP:20260423T183512
CREATED:20260325T104456Z
LAST-MODIFIED:20260325T104457Z
UID:10000009-1793883600-1793894400@blog.myfedtrainer.com
SUMMARY:Uniform Guidance Deep Dive
DESCRIPTION:In-depth Uniform Guidance training with practical application
URL:https://blog.myfedtrainer.com/event/uniform-guidance-deep-dive-4/
CATEGORIES:Training
END:VEVENT
BEGIN:VEVENT
DTSTART;TZID=America/New_York:20261110T130000
DTEND;TZID=America/New_York:20261110T140000
DTSTAMP:20260423T183512
CREATED:20260325T104527Z
LAST-MODIFIED:20260325T104527Z
UID:10000017-1794315600-1794319200@blog.myfedtrainer.com
SUMMARY:Webinar: Outcomes-Based Budgeting
DESCRIPTION:Linking budgets to program outcomes
URL:https://blog.myfedtrainer.com/event/webinar-outcomes-based-budgeting/
CATEGORIES:Webinar
END:VEVENT
BEGIN:VEVENT
DTSTART;TZID=America/New_York:20261202T130000
DTEND;TZID=America/New_York:20261203T163000
DTSTAMP:20260423T183512
CREATED:20260325T104450Z
LAST-MODIFIED:20260325T104450Z
UID:10000005-1796216400-1796315400@blog.myfedtrainer.com
SUMMARY:Grant Management Boot Camp
DESCRIPTION:Comprehensive training covering federal grant management lifecycle
URL:https://blog.myfedtrainer.com/event/grant-management-boot-camp-4/
CATEGORIES:Training
END:VEVENT
BEGIN:VEVENT
DTSTART;TZID=America/New_York:20261208T130000
DTEND;TZID=America/New_York:20261208T140000
DTSTAMP:20260423T183512
CREATED:20260325T104527Z
LAST-MODIFIED:20260325T110119Z
UID:10000018-1796734800-1796738400@blog.myfedtrainer.com
SUMMARY:Webinar: Year End Planning for 2027
DESCRIPTION:Start 2027 strong with a proactive roadmap for continued success in federal grants management.\n\nCourse overview: Look ahead to emerging trends\, compliance expectations\, and funding priorities for the coming grant cycles.\n\nObjective: Set strategic goals and prepare your organization for future opportunities and changes in the grants landscape.
URL:https://blog.myfedtrainer.com/event/webinar-year-end-planning-for-2027/
CATEGORIES:Webinar
ATTACH;FMTTYPE=image/png:https://blog.myfedtrainer.com/wp-content/uploads/2026/03/66451dbbe2b1662b54e38c3b85b67f28.png
LOCATION:
END:VEVENT
END:VCALENDAR