BEGIN:VCALENDAR
VERSION:2.0
PRODID:-//MyFedTrainer.com Blog - ECPv6.15.17.1//NONSGML v1.0//EN
CALSCALE:GREGORIAN
METHOD:PUBLISH
X-WR-CALNAME:MyFedTrainer.com Blog
X-ORIGINAL-URL:https://blog.myfedtrainer.com
X-WR-CALDESC:Events for MyFedTrainer.com Blog
REFRESH-INTERVAL;VALUE=DURATION:PT1H
X-Robots-Tag:noindex
X-PUBLISHED-TTL:PT1H
BEGIN:VTIMEZONE
TZID:America/New_York
BEGIN:DAYLIGHT
TZOFFSETFROM:-0500
TZOFFSETTO:-0400
TZNAME:EDT
DTSTART:20250309T070000
END:DAYLIGHT
BEGIN:STANDARD
TZOFFSETFROM:-0400
TZOFFSETTO:-0500
TZNAME:EST
DTSTART:20251102T060000
END:STANDARD
BEGIN:DAYLIGHT
TZOFFSETFROM:-0500
TZOFFSETTO:-0400
TZNAME:EDT
DTSTART:20260308T070000
END:DAYLIGHT
BEGIN:STANDARD
TZOFFSETFROM:-0400
TZOFFSETTO:-0500
TZNAME:EST
DTSTART:20261101T060000
END:STANDARD
BEGIN:DAYLIGHT
TZOFFSETFROM:-0500
TZOFFSETTO:-0400
TZNAME:EDT
DTSTART:20270314T070000
END:DAYLIGHT
BEGIN:STANDARD
TZOFFSETFROM:-0400
TZOFFSETTO:-0500
TZNAME:EST
DTSTART:20271107T060000
END:STANDARD
END:VTIMEZONE
BEGIN:VEVENT
DTSTART;VALUE=DATE:20260409
DTEND;VALUE=DATE:20260413
DTSTAMP:20260424T003633
CREATED:20260407T102912Z
LAST-MODIFIED:20260407T102912Z
UID:10000020-1775692800-1776038399@blog.myfedtrainer.com
SUMMARY:Grant Writers Gathering (External Event Featuring Speaker Rachel Werner)
DESCRIPTION:
URL:https://blog.myfedtrainer.com/event/grant-writers-gathering-external-event-featuring-speaker-rachel-werner/
ATTACH;FMTTYPE=image/png:https://blog.myfedtrainer.com/wp-content/uploads/2026/04/Untitled-design-7.png
END:VEVENT
END:VCALENDAR